BEGIN:VCALENDAR
VERSION:2.0
PRODID:-//Franciacorta da scoprire - ECPv6.15.11//NONSGML v1.0//EN
CALSCALE:GREGORIAN
METHOD:PUBLISH
X-WR-CALNAME:Franciacorta da scoprire
X-ORIGINAL-URL:https://www.franciacortadascoprire.it
X-WR-CALDESC:Eventi per Franciacorta da scoprire
REFRESH-INTERVAL;VALUE=DURATION:PT1H
X-Robots-Tag:noindex
X-PUBLISHED-TTL:PT1H
BEGIN:VTIMEZONE
TZID:Europe/Rome
BEGIN:DAYLIGHT
TZOFFSETFROM:+0100
TZOFFSETTO:+0200
TZNAME:CEST
DTSTART:20220327T010000
END:DAYLIGHT
BEGIN:STANDARD
TZOFFSETFROM:+0200
TZOFFSETTO:+0100
TZNAME:CET
DTSTART:20221030T010000
END:STANDARD
BEGIN:DAYLIGHT
TZOFFSETFROM:+0100
TZOFFSETTO:+0200
TZNAME:CEST
DTSTART:20230326T010000
END:DAYLIGHT
BEGIN:STANDARD
TZOFFSETFROM:+0200
TZOFFSETTO:+0100
TZNAME:CET
DTSTART:20231029T010000
END:STANDARD
BEGIN:DAYLIGHT
TZOFFSETFROM:+0100
TZOFFSETTO:+0200
TZNAME:CEST
DTSTART:20240331T010000
END:DAYLIGHT
BEGIN:STANDARD
TZOFFSETFROM:+0200
TZOFFSETTO:+0100
TZNAME:CET
DTSTART:20241027T010000
END:STANDARD
END:VTIMEZONE
BEGIN:VEVENT
DTSTART;VALUE=DATE:20230515
DTEND;VALUE=DATE:20230522
DTSTAMP:20260421T172645
CREATED:20230511T085447Z
LAST-MODIFIED:20230605T170146Z
UID:2776-1684108800-1684713599@www.franciacortadascoprire.it
SUMMARY:Cazzago San Martino - Franciacorta aperta
DESCRIPTION:Un’importante azione diffusa su tutto il territorio è l’organizzazione di 22 eventi dal titolo Franciacorta aperta\, a partire dal mese di aprile fino a settembre. Ogni Comune ha a disposizione una settimana per organizzare\, sul proprio territorio\, iniziative di vario genere\, sempre legate alla promozione del territorio\, in collaborazione coi principali attori della propria comunità; questi eventi hanno la finalità di far conoscere ulteriormente le specificità di ogni paese\, le sue ricchezze\, la sua storia. \n  \nProgramma: \nDa venerdì 19 maggio a domenica 21 maggio\, presso il Borgo antico di Bornato\, “ Franciacorta in Fiore”\, la mostra mercato di rose e erbacee perenni tornerà con il tema “L’acqua che non c’è: scuola dalle piante” \nDal 10 maggio al 10 giugno\, a Franciacorta\, “Franciacorta in fiore e dintorni”\, Franciacorta in fiore ha coinvolto i Comuni associati a Terra della Franciacorta per promuovere la cultura del verde anche attraverso i residenti ed esercenti. Gli chef dei ristoranti Franciacortini proporranno nel menù un piatto dedicato alla rassegna. \nDa venerdì 19 maggio a domenica 21 maggio\, presso Palazzo Secco d’Aragona (Bornato)\, “Natura e fantasia. Legni modellati dal mare”\, mostra a cura dell’artista florar designer Giusi Ferrari Cielo. \nVenerdì 19 maggio\, alle ore 17.00\, presso La Dama Bianca Ristorante ( Bornato )\, “Green revolution: l’impatto della società sulla gestione del verde urbano e l’agricoltura”\, convegno a cura di Fondazione Cogeme nell’ambito del settimo Festival «Carta della Terra»\, in collaborazione con Franciacorta in Fiore\, Associazione Terra della Franciacorta.\nAlle ore 20.30\, presso Giardino di Palazzo Secco d’Aragona (Bornato)\, “Silent Flower party”\, Ballare e ascoltare musica attraverso le cuffie mentre degusti il buon cibo tipico accompagnato da un Franciacorta. Ingresso: 15.00€ con prevendita obbligatoria. \nSabato 20 maggio\, alle ore 11.00\, presso Cantina Antica Volta Ambrosini (Bornato)\, “Annullo filatelico”\, È realizzato in collaborazione con Poste Italiane.\nAlle ore 14.30\, presso Bornato\, “Passeggiata paesaggistica e archeologica: sulle tracce della Cristianizzazione in Franciacorta.” \nDomenica 21 Maggio:\nalle ore 10.00\, presso Bornato\, “Chiesette in fiore”\, Un trekking facile\, adatto a tutti\, alla scoperta di santuari dimenticati e piccoli ma incantevoli luoghi della fede.\nAlle ore 14.00\, presso Bornato\, “Palio della rosa di Franciacorta”\, sfilata e benedizione del corteo.
URL:https://www.franciacortadascoprire.it/event/cazzago-san-martino-franciacorta-aperta/
LOCATION:Cazzago San Martino
CATEGORIES:Franciacorta aperta
ATTACH;FMTTYPE=image/png:https://www.franciacortadascoprire.it/wp-content/uploads/2023/05/cazzago-sm_0006__Pieve_di_San_Bartolomeo_Bornato.png
END:VEVENT
BEGIN:VEVENT
DTSTART;VALUE=DATE:20230508
DTEND;VALUE=DATE:20230515
DTSTAMP:20260421T172645
CREATED:20230511T103449Z
LAST-MODIFIED:20230605T170131Z
UID:2901-1683504000-1684108799@www.franciacortadascoprire.it
SUMMARY:Palazzolo sull'Oglio - Franciacorta aperta
DESCRIPTION:Un’importante azione diffusa su tutto il territorio è l’organizzazione di 22 eventi dal titolo Franciacorta aperta\, a partire dal mese di aprile fino a settembre. Ogni Comune ha a disposizione una settimana per organizzare\, sul proprio territorio\, iniziative di vario genere\, sempre legate alla promozione del territorio\, in collaborazione coi principali attori della propria comunità; questi eventi hanno la finalità di far conoscere ulteriormente le specificità di ogni paese\, le sue ricchezze\, la sua storia. \n  \nProgramma: \nSabato 13 maggio\, dalle ore 15.00 alle ore 19.00 e domenica 14 maggio\, dalle ore 10.00 alle ore 12.00 e dalle ore 15.00 alle ore 19.00\, presso il Castello\, “Mostra Last Minute”\, a cura di CACP e LOVOGLIO. \nSabato 13 maggio\, dalle ore 15.00 alle 19.00 e domenica 14 maggio\, dalle ore 10.00 alle ore 12.00 e dalle ore 15.00 alle ore 19.00\, presso la sala Conferenze della biblioteca\, “Mostra Giorgio Gialandris”\, a cura dell’associazione culturale il Maestrale \nDOMENICA 14 maggio \nDalle ore 14.30 alle ore 18.00\, presso Villa Lanfranchi\, “Mostra tra Adda e Mincio: Bergamo e Brescia\, l’Occidente della Serenissima”\, a cura del comune di Palazzolo\, Biblioteca civica e Università Cattolica del Sacro Cuore. \nDalle ore 14.30 alle ore 18.30\, presso Villa Küpfer\, “Mostra collettiva fotografica”\, a cura del Circo Fotografico Palazzolese. \nAlle ore 9.00\, presso Villa Küpfer\, “Maratona Fotografica di San Fedele”\, a cura del Circolo Fotografico Palazzolese. \nAlle ore 10.00\, presso il Castello\, “Segreti e Segrete”\, evento per famiglie e bambini su prenotazione (chiamare ufficio cultura tel. 0307405520)\, a cura di Ekologia Italica e Flautomagico. \nAlle ore 15.00\, presso Fondazione Cicogna Rampana\, “Sguardi\, rivedere la città tra fotografie e cortometraggi”\, mostra fotografica dall’archivio Camossi e proiezione cortometraggi dall’archivio Palashort\, a cura di Fondazione Cicogna Rampana e Associazione Kuma. \nAlle ore 16.00\, presso Auditorium San Fedele\, “Visita in musica”\, intrattenimento musicale a cura di A. Sottini. \nInoltre domenica 14 maggio sarà possibile visitare i monumenti della città dalle 14.30 alle 18.00.
URL:https://www.franciacortadascoprire.it/event/palazzolo-franciacorta-aperta/
LOCATION:Palazzolo sull’Oglio
CATEGORIES:Franciacorta aperta
ATTACH;FMTTYPE=image/png:https://www.franciacortadascoprire.it/wp-content/uploads/2023/05/palazzolo_0000_villalanfranchi.png
END:VEVENT
BEGIN:VEVENT
DTSTART;TZID=Europe/Rome:20230504T210000
DTEND;TZID=Europe/Rome:20230504T210000
DTSTAMP:20260421T172645
CREATED:20230605T151840Z
LAST-MODIFIED:20230606T091050Z
UID:3660-1683234000-1683234000@www.franciacortadascoprire.it
SUMMARY:Giulio Tampalini e gli archi della Filarmonica del Festival
DESCRIPTION:Giulio Tampalini è oggi uno dei più conosciuti e carismatici chitarristi italiani\, apprezzato oggi in tutto il mondo. Artista Warner Classics\, vincitore del Premio delle Arti e della Cultura\, con più di 40 dischi solistici all’attivo\, docente presso la Fondazione Accademia Internazionale di Imola e in corsi di perfezionamento in Italia e all’estero e l’onore di aver suonato per il Papa in Vaticano. Un programma dedicato al repertorio per chitarra ed archi che spazia da Paganini\, Boccherini\, Donizetti sino a Margola.
URL:https://www.franciacortadascoprire.it/event/giulio-tampalini-e-gli-archi-della-filarmonica-del-festival/
LOCATION:Teatro Agorà\, piazza San Rocco 10\, Ospitaletto
CATEGORIES:Franciacorta, che spettacolo!
ATTACH;FMTTYPE=image/jpeg:https://www.franciacortadascoprire.it/wp-content/uploads/2023/06/TAMPALINI-5.jpeg
END:VEVENT
BEGIN:VEVENT
DTSTART;VALUE=DATE:20230504
DTEND;VALUE=DATE:20230925
DTSTAMP:20260421T172645
CREATED:20230511T011414Z
LAST-MODIFIED:20230607T143941Z
UID:2707-1683158400-1695599999@www.franciacortadascoprire.it
SUMMARY:Franciacorta\, che spettacolo!
DESCRIPTION:L’iniziativa intende potenziare l’offerta culturale locale con proposte di qualità gratuite che vedono il coinvolgimento di artisti professionisti e una gestione centralizzata della programmazione di eventi ed occasioni di fruizione. Con Franciacorta\, che spettacolo!\, reso possibile dalla collaborazione di Fondazione Provincia di Brescia Eventi\, Franciacorta da scoprire propone tre differenti palinsesti\, grazie alla collaborazione con Centro Teatrale Bresciano\, Associazione Gasparo da Salò-Filarmonica del Festival e Fondazione Teatro Grande\, che valorizzano l’esperienza cittadina rendendola “mobile” e quindi accessibile anche nei 22 comuni della Franciacorta potenziando e arricchendo la comunicazione e promozione di questo territorio. Gli spettacoli performativi sono realizzati sia nei luoghi segnalati negli itinerari di visita che nei comuni dove non c’è alcun bene architettonico individuato\, per poter dare visibilità all’intera area.
URL:https://www.franciacortadascoprire.it/event/franciacorta-che-spettacolo/
CATEGORIES:Franciacorta, che spettacolo!
ATTACH;FMTTYPE=image/png:https://www.franciacortadascoprire.it/wp-content/uploads/2023/05/che-spettacolo.png
END:VEVENT
BEGIN:VEVENT
DTSTART;VALUE=DATE:20230501
DTEND;VALUE=DATE:20230508
DTSTAMP:20260421T172645
CREATED:20230511T092029Z
LAST-MODIFIED:20230605T170112Z
UID:2835-1682899200-1683503999@www.franciacortadascoprire.it
SUMMARY:Coccaglio - Franciacorta aperta
DESCRIPTION:Un’importante azione diffusa su tutto il territorio è l’organizzazione di 22 eventi dal titolo Franciacorta aperta\, a partire dal mese di aprile fino a settembre. Ogni Comune ha a disposizione una settimana per organizzare\, sul proprio territorio\, iniziative di vario genere\, sempre legate alla promozione del territorio\, in collaborazione coi principali attori della propria comunità; questi eventi hanno la finalità di far conoscere ulteriormente le specificità di ogni paese\, le sue ricchezze\, la sua storia. \n  \nProgramma: \nLunedì 1 maggio\, dalle ore 14.00\, presso il parco alpini del quartiere Orti\, “Festa dello sport” \nLunedì 1 maggio\, dalle ore 16.30\, presso l’auditorium S. Giovanni Battista in via Castello n. 14\, “Concerto lirico” \nLunedì 1 maggio\, alle ore 9.00\, ritrovo incrocio via San Pietro/via Papa Giovanni XIII\, “In cammino con Avis” passeggiata culturale sul monte Orfano \nVenerdì 5 maggio\, dalle ore 20.45\, presso Pieve San Giovanni in via Castello n. 14\, “Concerto del civico corpo bandistico di Coccaglio” \n5-6-7 maggio (inaugurazione venerdì 5 maggio alle ore 20.30)\, presso l’auditorium S. Giovanni Battista in via Castello n. 14\, mostra “Come fantasmi” \nDall’1 al 7 maggio\, visite guidate presso il museo d’arte orientale collezione Mazzocchi e centro storico. (Per info e prenotazioni: museod’arteorientalecm@gmail.com 339.1975638)
URL:https://www.franciacortadascoprire.it/event/coccaglio-franciacorta-aperta/
LOCATION:Coccaglio
CATEGORIES:Franciacorta aperta
ATTACH;FMTTYPE=image/png:https://www.franciacortadascoprire.it/wp-content/uploads/2023/05/coccaglio_0004_PIAZZA-LUCA-MARENZIO-10.png
END:VEVENT
BEGIN:VEVENT
DTSTART;VALUE=DATE:20230424
DTEND;VALUE=DATE:20230501
DTSTAMP:20260421T172645
CREATED:20230605T134551Z
LAST-MODIFIED:20230606T085423Z
UID:3614-1682294400-1682899199@www.franciacortadascoprire.it
SUMMARY:Paderno Franciacorta - Franciacorta aperta
DESCRIPTION:Un’importante azione diffusa su tutto il territorio è l’organizzazione di 22 eventi dal titolo Franciacorta aperta\, a partire dal mese di aprile fino a settembre. Ogni Comune ha a disposizione una settimana per organizzare\, sul proprio territorio\, iniziative di vario genere\, sempre legate alla promozione del territorio\, in collaborazione coi principali attori della propria comunità; questi eventi hanno la finalità di far conoscere ulteriormente le specificità di ogni paese\, le sue ricchezze\, la sua storia. \n  \nProgramma: \nDomenica 30 aprile\, dalle 14.30 alle 18.00\, apertura del Castello Oldofredi e della sua chiesetta.\nDalle ore 15.00 sarà presente il Cav. Gianluigi Valotti per un approfondimento storico. \nDomenica 30 aprile\, alle 16.00\, partenza da Piazza della Libertà per visita guidata della Chiesa parrocchiale di San Pancrazio.
URL:https://www.franciacortadascoprire.it/event/paderno-franciacorta-franciacorta-aperta/
LOCATION:Paderno Franciacorta
CATEGORIES:Franciacorta aperta
ATTACH;FMTTYPE=image/jpeg:https://www.franciacortadascoprire.it/wp-content/uploads/2023/06/Parrocchia-San-Pancrazio-scaled.jpeg
END:VEVENT
BEGIN:VEVENT
DTSTART;VALUE=DATE:20230417
DTEND;VALUE=DATE:20230424
DTSTAMP:20260421T172645
CREATED:20230511T090713Z
LAST-MODIFIED:20230605T170026Z
UID:2806-1681689600-1682294399@www.franciacortadascoprire.it
SUMMARY:Capriolo - Franciacorta aperta
DESCRIPTION:Un’importante azione diffusa su tutto il territorio è l’organizzazione di 22 eventi dal titolo Franciacorta aperta\, a partire dal mese di aprile fino a settembre. Ogni Comune ha a disposizione una settimana per organizzare\, sul proprio territorio\, iniziative di vario genere\, sempre legate alla promozione del territorio\, in collaborazione coi principali attori della propria comunità; questi eventi hanno la finalità di far conoscere ulteriormente le specificità di ogni paese\, le sue ricchezze\, la sua storia. \nProgramma: \nSabato 22 aprile\, alle ore 16.00\, presso la Biblioteca Comunale\, inaugurazione della Mostra Fotografica “Capriolo e la sua gente”. Una mostra fotografica con fotografie storiche di famiglie\, luoghi ed eventi storici Capriolesi. \nSabato 22 aprile\, ore 17.00 – 20.00\, presso l’Auditorium BCC (in via IV Novembre 6)\, inaugurazione della Mostra Antologica “Guerrino Assoni”. Un portale tra Brescia e Bergamo con opere dell’Accademia Carrara e della Galleria d’Arte Moderna Contemporanea di Bergamo. \nDomenica 23 aprile\, ore 10.00 – 12.00 e 14.30 – 17.00\, presso il Borgo Storico\, “Sagra di San Giorgio”. La Proloco di Capriolo organizza visite guidate al Borgo Storico. \n  \n  \nCrediti: Archivio Storico Fotografico Prandelli
URL:https://www.franciacortadascoprire.it/event/capriolo-franciacorta-aperta/
LOCATION:Capriolo
CATEGORIES:Franciacorta aperta
ATTACH;FMTTYPE=image/png:https://www.franciacortadascoprire.it/wp-content/uploads/2023/05/capriolo_0002_Campanile-dalle-Fontane-Vecchie.png
END:VEVENT
BEGIN:VEVENT
DTSTART;VALUE=DATE:20230410
DTEND;VALUE=DATE:20230911
DTSTAMP:20260421T172645
CREATED:20230511T011116Z
LAST-MODIFIED:20230605T145848Z
UID:2704-1681084800-1694390399@www.franciacortadascoprire.it
SUMMARY:Franciacorta aperta
DESCRIPTION:Un’importante azione diffusa su tutto il territorio è l’organizzazione di 22 eventi dal titolo Franciacorta aperta\, a partire dal mese di aprile fino a settembre. Ogni Comune ha a disposizione una settimana per organizzare\, sul proprio territorio\, iniziative di vario genere\, sempre legate alla promozione del territorio\, in collaborazione coi principali attori della propria comunità; questi eventi hanno la finalità di far conoscere ulteriormente le specificità di ogni paese\, le sue ricchezze\, la sua storia. \n  \n\n\n\n\n\n\nCASTEGNATO\n10 – 16 aprile\n\n\nCAPRIOLO\n17 – 23 aprile\n\n\nPADERNO FRANCIACORTA\n24 – 30 aprile\n\n\nCOCCAGLIO\n1 – 7 maggio\n\n\nPALAZZOLO SULL’OGLIO\n8 – 14 maggio\n\n\nCAZZAGO SAN MARTINO\n15 – 21 maggio\n\n\nCELLATICA\n22 – 28 maggio\n\n\nRODENGO SAIANO\n29 maggio – 4 giugno\n\n\nERBUSCO\n5 – 11 giugno\n\n\nCOLOGNE\n12 – 18 giugno\n\n\nPASSIRANO\n19 – 25 giugno\n\n\nCORTE FRANCA\n26 giugno – 2 luglio\n\n\nMONTICELLI BRUSATI\n3 – 9 luglio\n\n\nISEO\n10 – 16 luglio\n\n\nADRO\n17 – 23 luglio\n\n\nOME\n24 – 30 luglio\n\n\nSULZANO\n31 luglio – 6 agosto\n\n\nGUSSAGO\n7 – 13 agosto\n\n\nPROVAGLIO D’ISEO\n21 – 27 agosto\n\n\nROVATO\n28 agosto – 3 settembre\n\n\nPARATICO\n4 – 10 settembre
URL:https://www.franciacortadascoprire.it/event/franciacorta-aperta/
CATEGORIES:Franciacorta aperta
ATTACH;FMTTYPE=image/png:https://www.franciacortadascoprire.it/wp-content/uploads/2023/05/che-spettacolo.png
END:VEVENT
BEGIN:VEVENT
DTSTART;VALUE=DATE:20230410
DTEND;VALUE=DATE:20230417
DTSTAMP:20260421T172645
CREATED:20230511T091054Z
LAST-MODIFIED:20230605T165946Z
UID:2813-1681084800-1681689599@www.franciacortadascoprire.it
SUMMARY:Castegnato - Franciacorta aperta
DESCRIPTION:Un’importante azione diffusa su tutto il territorio è l’organizzazione di 22 eventi dal titolo Franciacorta aperta\, a partire dal mese di aprile fino a settembre. Ogni Comune ha a disposizione una settimana per organizzare\, sul proprio territorio\, iniziative di vario genere\, sempre legate alla promozione del territorio\, in collaborazione coi principali attori della propria comunità; questi eventi hanno la finalità di far conoscere ulteriormente le specificità di ogni paese\, le sue ricchezze\, la sua storia. \n  \nProgramma: \nVenerdì 14 aprile\, alle ore 20.30\, “Andar per contrade”. Una passeggiata per le vie del paese per visitare i luoghi e conoscere le storie dei castegnatesi di ieri e di oggi. \nSabato 15 aprile\, alle ore 20.30\, presso il Centro Civico di Castegnato\, “Musiche ispaniche e latino-americane”. Un viaggio nella musica ispanica e sudamericana accompagnati da flauto\, violoncello e chitarra. \nDomenica 16 aprile\, alle ore 9.20\, ci sarà la partenza dal municipio della biciclettata dal Mella al lago d’Iseo “tra fiume e lago” sulla dorsale della Brescia-Paratico.
URL:https://www.franciacortadascoprire.it/event/castegnato-franciacorta-aperta/
LOCATION:Castegnato
CATEGORIES:Franciacorta aperta
ATTACH;FMTTYPE=image/png:https://www.franciacortadascoprire.it/wp-content/uploads/2023/05/castegnato_0004_Castegnato-1.png
END:VEVENT
END:VCALENDAR